{
 "currentVersion": 10.9,
 "cimVersion": "2.8.0",
 "serviceDescription": "",
 "mapName": "Muncipality",
 "description": "",
 "copyrightText": "",
 "supportsDynamicLayers": false,
 "layers": [
  {
   "id": 0,
   "name": "Landplan Muncipal Area",
   "parentLayerId": -1,
   "defaultVisibility": true,
   "subLayerIds": null,
   "minScale": 0,
   "maxScale": 0,
   "type": "Feature Layer",
   "geometryType": "esriGeometryPolygon",
   "supportsDynamicLegends": true
  }
 ],
 "tables": [],
 "spatialReference": {
  "wkid": 2932,
  "latestWkid": 2932,
  "xyTolerance": 2.5E-4,
  "zTolerance": 4.9999999999999996E-6,
  "mTolerance": 4.9999999999999996E-6,
  "falseX": -5423300,
  "falseY": -12407500,
  "xyUnits": 10000,
  "falseZ": -100000,
  "zUnits": 10000,
  "falseM": -100000,
  "mUnits": 10000
 },
 "singleFusedMapCache": true,
 "tileInfo": {
  "rows": 256,
  "cols": 256,
  "dpi": 96,
  "format": "MIXED",
  "compressionQuality": 75,
  "origin": {
   "x": -9802187.276104026,
   "y": 7597046.871334033
  },
  "spatialReference": {
   "wkid": 2932,
   "latestWkid": 2932,
   "xyTolerance": 2.5E-4,
   "zTolerance": 4.9999999999999996E-6,
   "mTolerance": 4.9999999999999996E-6,
   "falseX": -5423300,
   "falseY": -12407500,
   "xyUnits": 10000,
   "falseZ": -100000,
   "zUnits": 10000,
   "falseM": -100000,
   "mUnits": 10000
  },
  "lods": [
   {
    "level": 0,
    "resolution": 78142.0880945627,
    "scale": 2.9534017547551256E8
   },
   {
    "level": 1,
    "resolution": 39071.04404728135,
    "scale": 1.4767008773775628E8
   },
   {
    "level": 2,
    "resolution": 19535.522023640675,
    "scale": 7.383504386887814E7
   },
   {
    "level": 3,
    "resolution": 9767.761011820337,
    "scale": 3.691752193443907E7
   },
   {
    "level": 4,
    "resolution": 4883.880505910169,
    "scale": 1.8458760967219535E7
   },
   {
    "level": 5,
    "resolution": 2441.9402529550844,
    "scale": 9229380.483609768
   },
   {
    "level": 6,
    "resolution": 1220.9701264775422,
    "scale": 4614690.241804884
   },
   {
    "level": 7,
    "resolution": 610.4850632387711,
    "scale": 2307345.120902442
   },
   {
    "level": 8,
    "resolution": 305.24253161938555,
    "scale": 1153672.560451221
   },
   {
    "level": 9,
    "resolution": 152.62126580969277,
    "scale": 576836.2802256105
   },
   {
    "level": 10,
    "resolution": 76.31063290484639,
    "scale": 288418.14011280524
   },
   {
    "level": 11,
    "resolution": 38.15531645242319,
    "scale": 144209.07005640262
   },
   {
    "level": 12,
    "resolution": 19.077658226211597,
    "scale": 72104.53502820131
   },
   {
    "level": 13,
    "resolution": 9.538829113105798,
    "scale": 36052.267514100655
   },
   {
    "level": 14,
    "resolution": 4.769414556552899,
    "scale": 18026.133757050327
   },
   {
    "level": 15,
    "resolution": 2.3847072782764496,
    "scale": 9013.066878525164
   },
   {
    "level": 16,
    "resolution": 1.1923536391382248,
    "scale": 4506.533439262582
   },
   {
    "level": 17,
    "resolution": 0.5961768195691124,
    "scale": 2253.266719631291
   },
   {
    "level": 18,
    "resolution": 0.2980884097845562,
    "scale": 1126.6333598156455
   }
  ]
 },
 "initialExtent": {
  "xmin": 71593.16114156863,
  "ymin": 291798.98150331393,
  "xmax": 319810.2955750791,
  "ymax": 500442.0821033152,
  "spatialReference": {
   "wkid": 2932,
   "latestWkid": 2932,
   "xyTolerance": 2.5E-4,
   "zTolerance": 4.9999999999999996E-6,
   "mTolerance": 4.9999999999999996E-6,
   "falseX": -5423300,
   "falseY": -12407500,
   "xyUnits": 10000,
   "falseZ": -100000,
   "zUnits": 10000,
   "falseM": -100000,
   "mUnits": 10000
  }
 },
 "fullExtent": {
  "xmin": 151436.21300000045,
  "ymin": 302268.6779999994,
  "xmax": 244998.10912500042,
  "ymax": 491944.22399999946,
  "spatialReference": {
   "wkid": 2932,
   "latestWkid": 2932,
   "xyTolerance": 2.5E-4,
   "zTolerance": 4.9999999999999996E-6,
   "mTolerance": 4.9999999999999996E-6,
   "falseX": -5423300,
   "falseY": -12407500,
   "xyUnits": 10000,
   "falseZ": -100000,
   "zUnits": 10000,
   "falseM": -100000,
   "mUnits": 10000
  }
 },
 "units": "esriMeters",
 "supportedImageFormatTypes": "PNG32,PNG24,PNG,JPG,DIB,TIFF,EMF,PS,PDF,GIF,SVG,SVGZ,BMP",
 "documentInfo": {
  "Title": "F:\\ArcGISProProjects\\Planning\\Planning.aprx",
  "Author": "",
  "Comments": "",
  "Subject": "",
  "Category": "",
  "AntialiasingMode": "None",
  "TextAntialiasingMode": "Force",
  "Version": "2.8.0",
  "Keywords": ""
 },
 "supportedQueryFormats": "JSON, geoJSON, PBF",
 "referenceScale": 0.0,
 "datumTransformations": [
  {
   "geoTransforms": [
    {
     "wkid": 1840,
     "latestWkid": 1840,
     "transformForward": false,
     "name": "QND_1995_To_WGS_1984_1"
    }
   ]
  },
  {
   "geoTransforms": [
    {
     "wkid": 1840,
     "latestWkid": 1840,
     "transformForward": true,
     "name": "QND_1995_To_WGS_1984_1"
    }
   ]
  }
 ],
 "supportsDatumTransformation": true,
 "archivingInfo": {
  "supportsHistoricMoment": false
 },
 "supportsClipping": true,
 "supportsSpatialFilter": true,
 "supportsTimeRelation": true,
 "supportsQueryDataElements": true,
 "maxRecordCount": 1000,
 "maxImageHeight": 4096,
 "maxImageWidth": 4096,
 "capabilities": "TilesOnly,Tilemap",
 "minScale": 4614690.241804884,
 "maxScale": 1126.6333598156455,
 "exportTilesAllowed": false,
 "maxExportTilesCount": 100000,
 "supportedExtensions": "",
 "serviceItemId": "c53095c7d3574ac3b22b69cbc61248a9"
}
