View In:
ArcGIS JavaScript
ArcGIS Online Map Viewer
ArcGIS Earth
ArcGIS Pro
Service Description:
Map Name: Muncipality
Legend
All Layers and Tables
Layers:
Description:
Service Item Id: c53095c7d3574ac3b22b69cbc61248a9
Copyright Text:
Spatial Reference:
2932
(2932)
LatestVCSWkid(0)
Single Fused Map Cache: true
Tile Info:
- Height: 256.0
- Width: 256.0
- DPI: 96.0
-
Levels of Detail: 19
-
Level ID: 0
[ Start Tile, End Tile ]
- Resolution: 78142.0880945627
- Scale: 2.9534017547551256E8
-
Level ID: 1
[ Start Tile, End Tile ]
- Resolution: 39071.04404728135
- Scale: 1.4767008773775628E8
-
Level ID: 2
[ Start Tile, End Tile ]
- Resolution: 19535.522023640675
- Scale: 7.383504386887814E7
-
Level ID: 3
[ Start Tile, End Tile ]
- Resolution: 9767.761011820337
- Scale: 3.691752193443907E7
-
Level ID: 4
[ Start Tile, End Tile ]
- Resolution: 4883.880505910169
- Scale: 1.8458760967219535E7
-
Level ID: 5
[ Start Tile, End Tile ]
- Resolution: 2441.9402529550844
- Scale: 9229380.483609768
-
Level ID: 6
[ Start Tile, End Tile ]
- Resolution: 1220.9701264775422
- Scale: 4614690.241804884
-
Level ID: 7
[ Start Tile, End Tile ]
- Resolution: 610.4850632387711
- Scale: 2307345.120902442
-
Level ID: 8
[ Start Tile, End Tile ]
- Resolution: 305.24253161938555
- Scale: 1153672.560451221
-
Level ID: 9
[ Start Tile, End Tile ]
- Resolution: 152.62126580969277
- Scale: 576836.2802256105
-
Level ID: 10
[ Start Tile, End Tile ]
- Resolution: 76.31063290484639
- Scale: 288418.14011280524
-
Level ID: 11
[ Start Tile, End Tile ]
- Resolution: 38.15531645242319
- Scale: 144209.07005640262
-
Level ID: 12
[ Start Tile, End Tile ]
- Resolution: 19.077658226211597
- Scale: 72104.53502820131
-
Level ID: 13
[ Start Tile, End Tile ]
- Resolution: 9.538829113105798
- Scale: 36052.267514100655
-
Level ID: 14
[ Start Tile, End Tile ]
- Resolution: 4.769414556552899
- Scale: 18026.133757050327
-
Level ID: 15
[ Start Tile, End Tile ]
- Resolution: 2.3847072782764496
- Scale: 9013.066878525164
-
Level ID: 16
[ Start Tile, End Tile ]
- Resolution: 1.1923536391382248
- Scale: 4506.533439262582
-
Level ID: 17
[ Start Tile, End Tile ]
- Resolution: 0.5961768195691124
- Scale: 2253.266719631291
-
Level ID: 18
[ Start Tile, End Tile ]
- Resolution: 0.2980884097845562
- Scale: 1126.6333598156455
- Format: MIXED
- Compression Quality: 75.0
- Origin: X: -9802187.276104026
Y: 7597046.871334033
- Spatial Reference: 2932
(2932)
LatestVCSWkid(0)
Initial Extent:
XMin: 71593.16114156863
YMin: 291798.98150331393
XMax: 319810.2955750791
YMax: 500442.0821033152
Spatial Reference: 2932
(2932)
LatestVCSWkid(0)
Full Extent:
XMin: 151436.21300000045
YMin: 302268.6779999994
XMax: 244998.10912500042
YMax: 491944.22399999946
Spatial Reference: 2932
(2932)
LatestVCSWkid(0)
Units: esriMeters
Supported Image Format Types: PNG32,PNG24,PNG,JPG,DIB,TIFF,EMF,PS,PDF,GIF,SVG,SVGZ,BMP
Document Info:
Title: F:\ArcGISProProjects\Planning\Planning.aprx
Author:
Comments:
Subject:
Category:
Keywords:
AntialiasingMode: None
TextAntialiasingMode: Force
Supports Dynamic Layers: false
MaxRecordCount: 1000
MaxSelectionCount: 0
MaxImageHeight: 4096
MaxImageWidth: 4096
Supported Query Formats: JSON, geoJSON, PBF
Supports Query Data Elements: true
Min Scale: 4614690.241804884
Max Scale: 1126.6333598156455
Supports Datum Transformation: true
Child Resources:
Info
Supported Operations:
QueryLegends
Return Updates